BEGIN:VCALENDAR
VERSION:2.0
PRODID:-//Jo Appleby Soprano UK - ECPv4.6.21//NONSGML v1.0//EN
CALSCALE:GREGORIAN
METHOD:PUBLISH
X-WR-CALNAME:Jo Appleby Soprano UK
X-ORIGINAL-URL:https://joappleby.com
X-WR-CALDESC:Events for Jo Appleby Soprano UK
BEGIN:VEVENT
DTSTART;TZID=Europe/London:20180714T190000
DTEND;TZID=Europe/London:20180714T233000
DTSTAMP:20260421T161948
CREATED:20180501T094045Z
LAST-MODIFIED:20180518T094410Z
UID:508-1531594800-1531611000@joappleby.com
SUMMARY:Rochester Castle Music Theatre Prom with RPCO
DESCRIPTION:Proms to provide perfect festival finale – Saturday\, 19 July\nAn unforgettable night of rousing classical anthems and fireworks\, in the fantastic open-air venue of Rochester Castle gardens.\nThe Royal Philharmonic Concert Orchestra will perform a selection of classical favourites\, including Rule Britannia\,  Jerusalem\, the Sailor’s Hornpipe and of course the timeless Land of Hope and Glory.  The orchestra will be joined by Hertfordshire Chorus. \nThe Proms has become the signature finale for the Castle Concerts series\, so grab some fizz\, a picnic and your finest flag and indulge yourself in a patriotic last night of the Proms. \nA fabulous evening of Music Theatre and Classical pops  in the open air with full orchestra. Bring a picnic! \n  \n
URL:https://joappleby.com/event/rochester-castle-music-theatre-prom/
CATEGORIES:Upcoming Events
ATTACH;FMTTYPE=image/jpeg:https://joappleby.com/wp-content/uploads/2018/05/www.visitsoutheastengland.jpg
END:VEVENT
END:VCALENDAR